Package: RTCGAToolbox Version: 2.36.0 Command: /Library/Frameworks/R.framework/Resources/bin/R CMD check --install=check:RTCGAToolbox.install-out.txt --library=/Library/Frameworks/R.framework/Resources/library --no-vignettes --timings RTCGAToolbox_2.36.0.tar.gz StartedAt: 2025-02-04 09:20:35 -0500 (Tue, 04 Feb 2025) EndedAt: 2025-02-04 09:27:29 -0500 (Tue, 04 Feb 2025) EllapsedTime: 414.0 seconds RetCode: 0 Status: OK CheckDir: RTCGAToolbox.Rcheck Warnings: 0