Package: RTCGAToolbox Version: 2.36.0 Command: /Library/Frameworks/R.framework/Resources/bin/R CMD INSTALL RTCGAToolbox StartedAt: 2025-02-10 15:34:47 -0500 (Mon, 10 Feb 2025) EndedAt: 2025-02-10 15:35:38 -0500 (Mon, 10 Feb 2025) EllapsedTime: 51.0 seconds RetCode: 0 Status: OK