Package: RTCGAToolbox Version: 2.36.0 Command: /home/biocbuild/bbs-3.20-bioc/R/bin/R CMD INSTALL RTCGAToolbox StartedAt: 2025-01-30 15:20:59 -0500 (Thu, 30 Jan 2025) EndedAt: 2025-01-30 15:21:23 -0500 (Thu, 30 Jan 2025) EllapsedTime: 23.9 seconds RetCode: 0 Status: OK