Package: RTCGAToolbox Version: 2.36.0 Command: /home/biocbuild/R/R/bin/R CMD check --install=check:RTCGAToolbox.install-out.txt --library=/home/biocbuild/R/R/site-library --no-vignettes --timings RTCGAToolbox_2.36.0.tar.gz StartedAt: 2025-02-11 09:59:05 -0000 (Tue, 11 Feb 2025) EndedAt: 2025-02-11 10:05:36 -0000 (Tue, 11 Feb 2025) EllapsedTime: 390.8 seconds RetCode: 0 Status: OK CheckDir: RTCGAToolbox.Rcheck Warnings: 0