Package: RTCGAToolbox Version: 2.36.0 Command: /home/biocbuild/R/R/bin/R CMD INSTALL RTCGAToolbox StartedAt: 2025-02-10 20:28:47 -0000 (Mon, 10 Feb 2025) EndedAt: 2025-02-10 20:29:20 -0000 (Mon, 10 Feb 2025) EllapsedTime: 32.9 seconds RetCode: 0 Status: OK