Package: RTNsurvival Version: 1.30.0 Command: rm -rf RTNsurvival.buildbin-libdir && mkdir RTNsurvival.buildbin-libdir && /Users/biocbuild/BBS/utils/build-universal.sh RTNsurvival_1.30.0.tar.gz /Library/Frameworks/R.framework/Resources/bin/R RTNsurvival.buildbin-libdir StartedAt: 2025-02-05 17:34:48 -0500 (Wed, 05 Feb 2025) EndedAt: 2025-02-05 17:35:28 -0500 (Wed, 05 Feb 2025) EllapsedTime: 39.8 seconds RetCode: 0 Status: OK PackageFile: RTNsurvival_1.30.0.tgz PackageFileSize: 948.3 KiB