Package: RTNsurvival Version: 1.30.0 Command: /Library/Frameworks/R.framework/Resources/bin/R CMD check --install=check:RTNsurvival.install-out.txt --library=/Library/Frameworks/R.framework/Resources/library --no-vignettes --timings RTNsurvival_1.30.0.tar.gz StartedAt: 2025-02-05 08:22:56 -0500 (Wed, 05 Feb 2025) EndedAt: 2025-02-05 08:27:13 -0500 (Wed, 05 Feb 2025) EllapsedTime: 256.7 seconds RetCode: 0 Status: OK CheckDir: RTNsurvival.Rcheck Warnings: 0