Package: RTNsurvival Version: 1.30.0 Command: /Library/Frameworks/R.framework/Resources/bin/R CMD check --install=check:RTNsurvival.install-out.txt --library=/Library/Frameworks/R.framework/Resources/library --no-vignettes --timings RTNsurvival_1.30.0.tar.gz StartedAt: 2025-02-04 09:21:12 -0500 (Tue, 04 Feb 2025) EndedAt: 2025-02-04 09:29:08 -0500 (Tue, 04 Feb 2025) EllapsedTime: 475.3 seconds RetCode: 0 Status: OK CheckDir: RTNsurvival.Rcheck Warnings: 0