Package: RTNsurvival Version: 1.30.0 Command: /home/biocbuild/bbs-3.20-bioc/R/bin/R CMD INSTALL RTNsurvival StartedAt: 2025-02-03 16:05:05 -0500 (Mon, 03 Feb 2025) EndedAt: 2025-02-03 16:05:40 -0500 (Mon, 03 Feb 2025) EllapsedTime: 35.3 seconds RetCode: 0 Status: OK