Package: RTNsurvival Version: 1.30.0 Command: chmod a+r RTNsurvival -R && F:\biocbuild\bbs-3.20-bioc\R\bin\R.exe CMD build --keep-empty-dirs --no-resave-data RTNsurvival StartedAt: 2025-02-03 21:48:50 -0500 (Mon, 03 Feb 2025) EndedAt: 2025-02-03 21:50:33 -0500 (Mon, 03 Feb 2025) EllapsedTime: 102.6 seconds RetCode: 0 Status: OK PackageFile: RTNsurvival_1.30.0.tar.gz PackageFileSize: 733 KiB