Package: RTNsurvival Version: 1.30.0 Command: F:\biocbuild\bbs-3.20-bioc\R\bin\R.exe CMD check --no-multiarch --install=check:RTNsurvival.install-out.txt --library=F:\biocbuild\bbs-3.20-bioc\R\library --no-vignettes --timings RTNsurvival_1.30.0.tar.gz StartedAt: 2025-02-04 05:46:47 -0500 (Tue, 04 Feb 2025) EndedAt: 2025-02-04 05:51:01 -0500 (Tue, 04 Feb 2025) EllapsedTime: 254.3 seconds RetCode: 0 Status: OK CheckDir: RTNsurvival.Rcheck Warnings: 0