Package: RTNsurvival Version: 1.30.0 Command: /home/biocbuild/R/R/bin/R CMD INSTALL RTNsurvival StartedAt: 2025-02-03 21:18:45 -0000 (Mon, 03 Feb 2025) EndedAt: 2025-02-03 21:19:27 -0000 (Mon, 03 Feb 2025) EllapsedTime: 42.3 seconds RetCode: 0 Status: OK