Package: RTopper Version: 1.52.0 Command: /Library/Frameworks/R.framework/Resources/bin/R CMD build --keep-empty-dirs --no-resave-data RTopper StartedAt: 2025-02-11 07:01:15 -0500 (Tue, 11 Feb 2025) EndedAt: 2025-02-11 07:02:31 -0500 (Tue, 11 Feb 2025) EllapsedTime: 75.8 seconds RetCode: 0 Status: OK PackageFile: RTopper_1.52.0.tar.gz PackageFileSize: 1.349 MiB