Package: RTopper Version: 1.52.0 Command: /Library/Frameworks/R.framework/Resources/bin/R CMD check --install=check:RTopper.install-out.txt --library=/Library/Frameworks/R.framework/Resources/library --no-vignettes --timings RTopper_1.52.0.tar.gz StartedAt: 2025-02-05 08:25:54 -0500 (Wed, 05 Feb 2025) EndedAt: 2025-02-05 08:27:10 -0500 (Wed, 05 Feb 2025) EllapsedTime: 75.8 seconds RetCode: 0 Status: OK CheckDir: RTopper.Rcheck Warnings: 0