Package: RTopper Version: 1.52.0 Command: /home/biocbuild/R/R/bin/R CMD build --keep-empty-dirs --no-resave-data RTopper StartedAt: 2024-11-20 03:32:11 -0000 (Wed, 20 Nov 2024) EndedAt: 2024-11-20 03:33:28 -0000 (Wed, 20 Nov 2024) EllapsedTime: 77.1 seconds RetCode: 0 Status: OK PackageFile: RTopper_1.52.0.tar.gz PackageFileSize: 1.342 MiB