Package: RTopper Version: 1.52.0 Command: /Library/Frameworks/R.framework/Resources/bin/R CMD INSTALL RTopper StartedAt: 2025-02-03 16:25:59 -0500 (Mon, 03 Feb 2025) EndedAt: 2025-02-03 16:26:14 -0500 (Mon, 03 Feb 2025) EllapsedTime: 15.1 seconds RetCode: 0 Status: OK