Package: RTopper Version: 1.52.0 Command: rm -rf RTopper.buildbin-libdir && mkdir RTopper.buildbin-libdir && F:\biocbuild\bbs-3.20-bioc\R\bin\R.exe CMD INSTALL --build --library=RTopper.buildbin-libdir RTopper_1.52.0.tar.gz StartedAt: 2025-02-11 09:22:04 -0500 (Tue, 11 Feb 2025) EndedAt: 2025-02-11 09:22:17 -0500 (Tue, 11 Feb 2025) EllapsedTime: 13.1 seconds RetCode: 0 Status: OK PackageFile: RTopper_1.52.0.zip PackageFileSize: 1.237 MiB