Package: RTopper Version: 1.52.0 Command: F:\biocbuild\bbs-3.20-bioc\R\bin\R.exe CMD check --no-multiarch --install=check:RTopper.install-out.txt --library=F:\biocbuild\bbs-3.20-bioc\R\library --no-vignettes --timings RTopper_1.52.0.tar.gz StartedAt: 2025-02-04 05:47:00 -0500 (Tue, 04 Feb 2025) EndedAt: 2025-02-04 05:48:27 -0500 (Tue, 04 Feb 2025) EllapsedTime: 87.2 seconds RetCode: 0 Status: OK CheckDir: RTopper.Rcheck Warnings: 0