Package: RTopper Version: 1.52.0 Command: /home/biocbuild/R/R/bin/R CMD check --install=check:RTopper.install-out.txt --library=/home/biocbuild/R/R/site-library --no-vignettes --timings RTopper_1.52.0.tar.gz StartedAt: 2025-02-11 09:59:21 -0000 (Tue, 11 Feb 2025) EndedAt: 2025-02-11 10:00:38 -0000 (Tue, 11 Feb 2025) EllapsedTime: 77.1 seconds RetCode: 0 Status: OK CheckDir: RTopper.Rcheck Warnings: 0