Package: RTopper Version: 1.52.0 Command: /home/biocbuild/R/R/bin/R CMD INSTALL RTopper StartedAt: 2025-02-10 20:55:39 -0000 (Mon, 10 Feb 2025) EndedAt: 2025-02-10 20:55:46 -0000 (Mon, 10 Feb 2025) EllapsedTime: 7.9 seconds RetCode: 0 Status: OK