Package: RUVSeq Version: 1.40.0 Command: /Library/Frameworks/R.framework/Resources/bin/R CMD build --keep-empty-dirs --no-resave-data RUVSeq StartedAt: 2025-01-31 06:57:53 -0500 (Fri, 31 Jan 2025) EndedAt: 2025-01-31 06:59:52 -0500 (Fri, 31 Jan 2025) EllapsedTime: 118.8 seconds RetCode: 0 Status: OK PackageFile: RUVSeq_1.40.0.tar.gz PackageFileSize: 495.9 KiB