Package: RUVSeq Version: 1.40.0 Command: /Library/Frameworks/R.framework/Resources/bin/R CMD check --install=check:RUVSeq.install-out.txt --library=/Library/Frameworks/R.framework/Resources/library --no-vignettes --timings RUVSeq_1.40.0.tar.gz StartedAt: 2025-02-01 07:42:14 -0500 (Sat, 01 Feb 2025) EndedAt: 2025-02-01 07:47:56 -0500 (Sat, 01 Feb 2025) EllapsedTime: 342.8 seconds RetCode: 0 Status: OK CheckDir: RUVSeq.Rcheck Warnings: 0