Package: RUVSeq Version: 1.40.0 Command: /Library/Frameworks/R.framework/Resources/bin/R CMD INSTALL RUVSeq StartedAt: 2025-02-03 15:56:18 -0500 (Mon, 03 Feb 2025) EndedAt: 2025-02-03 15:57:45 -0500 (Mon, 03 Feb 2025) EllapsedTime: 86.8 seconds RetCode: 0 Status: OK