Package: RUVSeq Version: 1.40.0 Command: rm -rf RUVSeq.buildbin-libdir && mkdir RUVSeq.buildbin-libdir && F:\biocbuild\bbs-3.20-bioc\R\bin\R.exe CMD INSTALL --build --library=RUVSeq.buildbin-libdir RUVSeq_1.40.0.tar.gz StartedAt: 2025-02-04 09:24:48 -0500 (Tue, 04 Feb 2025) EndedAt: 2025-02-04 09:25:38 -0500 (Tue, 04 Feb 2025) EllapsedTime: 50.3 seconds RetCode: 0 Status: OK PackageFile: RUVSeq_1.40.0.zip PackageFileSize: 356.3 KiB