Package: RUVSeq Version: 1.40.0 Command: chmod a+r RUVSeq -R && F:\biocbuild\bbs-3.20-bioc\R\bin\R.exe CMD build --keep-empty-dirs --no-resave-data RUVSeq StartedAt: 2025-01-30 21:34:18 -0500 (Thu, 30 Jan 2025) EndedAt: 2025-01-30 21:36:17 -0500 (Thu, 30 Jan 2025) EllapsedTime: 118.9 seconds RetCode: 0 Status: OK PackageFile: RUVSeq_1.40.0.tar.gz PackageFileSize: 311.5 KiB