Package: RUVSeq Version: 1.40.0 Command: /home/biocbuild/R/R/bin/R CMD build --keep-empty-dirs --no-resave-data RUVSeq StartedAt: 2025-02-04 02:31:04 -0000 (Tue, 04 Feb 2025) EndedAt: 2025-02-04 02:33:27 -0000 (Tue, 04 Feb 2025) EllapsedTime: 143.2 seconds RetCode: 0 Status: OK PackageFile: RUVSeq_1.40.0.tar.gz PackageFileSize: 362.5 KiB