Package: RadioGx Version: 2.10.0 Command: chmod a+r RadioGx -R && F:\biocbuild\bbs-3.20-bioc\R\bin\R.exe CMD build --keep-empty-dirs --no-resave-data RadioGx StartedAt: 2025-02-03 21:28:32 -0500 (Mon, 03 Feb 2025) EndedAt: 2025-02-03 21:29:50 -0500 (Mon, 03 Feb 2025) EllapsedTime: 77.5 seconds RetCode: 0 Status: OK PackageFile: RadioGx_2.10.0.tar.gz PackageFileSize: 2.736 MiB