Package: RadioGx Version: 2.10.0 Command: /home/biocbuild/R/R/bin/R CMD check --install=check:RadioGx.install-out.txt --library=/home/biocbuild/R/R/site-library --no-vignettes --timings RadioGx_2.10.0.tar.gz StartedAt: 2025-02-04 10:11:57 -0000 (Tue, 04 Feb 2025) EndedAt: 2025-02-04 10:16:45 -0000 (Tue, 04 Feb 2025) EllapsedTime: 287.6 seconds RetCode: 0 Status: OK CheckDir: RadioGx.Rcheck Warnings: 0