Package: RaggedExperiment Version: 1.30.0 Command: /Library/Frameworks/R.framework/Resources/bin/R CMD check --install=check:RaggedExperiment.install-out.txt --library=/Library/Frameworks/R.framework/Resources/library --no-vignettes --timings RaggedExperiment_1.30.0.tar.gz StartedAt: 2025-02-05 06:36:52 -0500 (Wed, 05 Feb 2025) EndedAt: 2025-02-05 06:40:03 -0500 (Wed, 05 Feb 2025) EllapsedTime: 190.7 seconds RetCode: 0 Status: OK CheckDir: RaggedExperiment.Rcheck Warnings: 0