Package: RaggedExperiment Version: 1.30.0 Command: /Library/Frameworks/R.framework/Resources/bin/R CMD INSTALL RaggedExperiment StartedAt: 2025-02-03 15:31:17 -0500 (Mon, 03 Feb 2025) EndedAt: 2025-02-03 15:31:30 -0500 (Mon, 03 Feb 2025) EllapsedTime: 13.5 seconds RetCode: 0 Status: OK