Package: RaggedExperiment Version: 1.30.0 Command: /Library/Frameworks/R.framework/Resources/bin/R CMD build --keep-empty-dirs --no-resave-data RaggedExperiment StartedAt: 2025-01-30 22:04:23 -0500 (Thu, 30 Jan 2025) EndedAt: 2025-01-30 22:05:41 -0500 (Thu, 30 Jan 2025) EllapsedTime: 77.9 seconds RetCode: 0 Status: OK PackageFile: RaggedExperiment_1.30.0.tar.gz PackageFileSize: 686.6 KiB