Package: RaggedExperiment Version: 1.30.0 Command: /home/biocbuild/bbs-3.20-bioc/R/bin/R CMD check --install=check:RaggedExperiment.install-out.txt --library=/home/biocbuild/bbs-3.20-bioc/R/site-library --timings RaggedExperiment_1.30.0.tar.gz StartedAt: 2025-02-04 01:33:05 -0500 (Tue, 04 Feb 2025) EndedAt: 2025-02-04 01:36:00 -0500 (Tue, 04 Feb 2025) EllapsedTime: 175.2 seconds RetCode: 0 Status: OK CheckDir: RaggedExperiment.Rcheck Warnings: 0