Package: RaggedExperiment Version: 1.30.0 Command: /home/biocbuild/R/R/bin/R CMD build --keep-empty-dirs --no-resave-data RaggedExperiment StartedAt: 2025-02-04 02:04:17 -0000 (Tue, 04 Feb 2025) EndedAt: 2025-02-04 02:05:01 -0000 (Tue, 04 Feb 2025) EllapsedTime: 44.0 seconds RetCode: 0 Status: OK PackageFile: RaggedExperiment_1.30.0.tar.gz PackageFileSize: 818.4 KiB