Package: RandomWalkRestartMH Version: 1.26.0 Command: /home/biocbuild/bbs-3.20-bioc/R/bin/R CMD build --keep-empty-dirs --no-resave-data --md5 RandomWalkRestartMH StartedAt: 2025-02-10 18:45:08 -0500 (Mon, 10 Feb 2025) EndedAt: 2025-02-10 18:45:09 -0500 (Mon, 10 Feb 2025) EllapsedTime: 1.0 seconds RetCode: 1 Status: ERROR PackageFile: None PackageFileSize: NA