Package: RandomWalkRestartMH Version: 1.26.0 Command: /home/biocbuild/R/R/bin/R CMD build --keep-empty-dirs --no-resave-data RandomWalkRestartMH StartedAt: 2025-02-04 02:05:10 -0000 (Tue, 04 Feb 2025) EndedAt: 2025-02-04 02:05:11 -0000 (Tue, 04 Feb 2025) EllapsedTime: 1.0 seconds RetCode: 1 Status: ERROR PackageFile: None PackageFileSize: NA