Package: RankProd Version: 3.32.0 Command: rm -rf RankProd.buildbin-libdir && mkdir RankProd.buildbin-libdir && /Users/biocbuild/BBS/utils/build-universal.sh RankProd_3.32.0.tar.gz /Library/Frameworks/R.framework/Resources/bin/R RankProd.buildbin-libdir StartedAt: 2025-02-05 17:17:36 -0500 (Wed, 05 Feb 2025) EndedAt: 2025-02-05 17:17:43 -0500 (Wed, 05 Feb 2025) EllapsedTime: 6.6 seconds RetCode: 0 Status: OK PackageFile: RankProd_3.32.0.tgz PackageFileSize: 877.1 KiB