Package: RankProd Version: 3.32.0 Command: /Library/Frameworks/R.framework/Resources/bin/R CMD INSTALL RankProd StartedAt: 2025-01-30 15:06:22 -0500 (Thu, 30 Jan 2025) EndedAt: 2025-01-30 15:06:28 -0500 (Thu, 30 Jan 2025) EllapsedTime: 5.8 seconds RetCode: 0 Status: OK