Package: RankProd Version: 3.32.0 Command: /Library/Frameworks/R.framework/Resources/bin/R CMD INSTALL RankProd StartedAt: 2025-02-03 15:13:36 -0500 (Mon, 03 Feb 2025) EndedAt: 2025-02-03 15:13:58 -0500 (Mon, 03 Feb 2025) EllapsedTime: 21.8 seconds RetCode: 0 Status: OK