Package: RankProd Version: 3.32.0 Command: /home/biocbuild/bbs-3.20-bioc/R/bin/R CMD build --keep-empty-dirs --no-resave-data --md5 RankProd StartedAt: 2025-02-03 18:52:44 -0500 (Mon, 03 Feb 2025) EndedAt: 2025-02-03 18:52:57 -0500 (Mon, 03 Feb 2025) EllapsedTime: 13.0 seconds RetCode: 0 Status: OK PackageFile: RankProd_3.32.0.tar.gz PackageFileSize: 778.1 KiB