Package: RankProd Version: 3.32.0 Command: rm -rf RankProd.buildbin-libdir && mkdir RankProd.buildbin-libdir && F:\biocbuild\bbs-3.20-bioc\R\bin\R.exe CMD INSTALL --build --library=RankProd.buildbin-libdir RankProd_3.32.0.tar.gz StartedAt: 2025-01-31 09:22:08 -0500 (Fri, 31 Jan 2025) EndedAt: 2025-01-31 09:22:20 -0500 (Fri, 31 Jan 2025) EllapsedTime: 12.6 seconds RetCode: 0 Status: OK PackageFile: RankProd_3.32.0.zip PackageFileSize: 754.1 KiB