Package: RankProd Version: 3.32.0 Command: chmod a+r RankProd -R && F:\biocbuild\bbs-3.20-bioc\R\bin\R.exe CMD build --keep-empty-dirs --no-resave-data RankProd StartedAt: 2025-01-30 21:14:08 -0500 (Thu, 30 Jan 2025) EndedAt: 2025-01-30 21:14:28 -0500 (Thu, 30 Jan 2025) EllapsedTime: 19.3 seconds RetCode: 0 Status: OK PackageFile: RankProd_3.32.0.tar.gz PackageFileSize: 653.6 KiB