Package: RankProd Version: 3.32.0 Command: F:\biocbuild\bbs-3.20-bioc\R\bin\R.exe CMD check --no-multiarch --install=check:RankProd.install-out.txt --library=F:\biocbuild\bbs-3.20-bioc\R\library --no-vignettes --timings RankProd_3.32.0.tar.gz StartedAt: 2025-01-31 05:28:16 -0500 (Fri, 31 Jan 2025) EndedAt: 2025-01-31 05:29:10 -0500 (Fri, 31 Jan 2025) EllapsedTime: 54.1 seconds RetCode: 0 Status: OK CheckDir: RankProd.Rcheck Warnings: 0