Package: Rbec Version: 1.14.0 Command: /Library/Frameworks/R.framework/Resources/bin/R CMD build --keep-empty-dirs --no-resave-data Rbec StartedAt: 2025-02-04 06:16:14 -0500 (Tue, 04 Feb 2025) EndedAt: 2025-02-04 06:16:25 -0500 (Tue, 04 Feb 2025) EllapsedTime: 10.3 seconds RetCode: 1 Status: ERROR PackageFile: None PackageFileSize: NA