Package: Rbec Version: 1.14.0 Command: /Library/Frameworks/R.framework/Resources/bin/R CMD INSTALL Rbec StartedAt: 2025-02-03 16:12:23 -0500 (Mon, 03 Feb 2025) EndedAt: 2025-02-03 16:12:31 -0500 (Mon, 03 Feb 2025) EllapsedTime: 7.8 seconds RetCode: 1 Status: ERROR