Package: Rbec Version: 1.14.0 Command: rm -rf Rbec.buildbin-libdir && mkdir Rbec.buildbin-libdir && /Users/biocbuild/BBS/utils/build-universal.sh Rbec_1.14.0.tar.gz /Library/Frameworks/R.framework/Resources/bin/R Rbec.buildbin-libdir StartedAt: 2025-02-04 13:54:51 -0500 (Tue, 04 Feb 2025) EndedAt: 2025-02-04 13:57:09 -0500 (Tue, 04 Feb 2025) EllapsedTime: 138.4 seconds RetCode: 0 Status: OK PackageFile: Rbec_1.14.0.tgz PackageFileSize: 1.529 MiB