Package: Rbec Version: 1.14.0 Command: /Library/Frameworks/R.framework/Resources/bin/R CMD build --keep-empty-dirs --no-resave-data Rbec StartedAt: 2025-02-03 21:33:04 -0500 (Mon, 03 Feb 2025) EndedAt: 2025-02-03 21:35:45 -0500 (Mon, 03 Feb 2025) EllapsedTime: 160.7 seconds RetCode: 0 Status: OK PackageFile: Rbec_1.14.0.tar.gz PackageFileSize: 1.467 MiB