Package: Rbec Version: 1.14.0 Command: /Library/Frameworks/R.framework/Resources/bin/R CMD INSTALL Rbec StartedAt: 2025-02-03 15:48:51 -0500 (Mon, 03 Feb 2025) EndedAt: 2025-02-03 15:50:15 -0500 (Mon, 03 Feb 2025) EllapsedTime: 84.0 seconds RetCode: 0 Status: OK