Package: Rbec Version: 1.14.0 Command: /home/biocbuild/bbs-3.20-bioc/R/bin/R CMD INSTALL Rbec StartedAt: 2025-02-03 15:40:58 -0500 (Mon, 03 Feb 2025) EndedAt: 2025-02-03 15:41:41 -0500 (Mon, 03 Feb 2025) EllapsedTime: 42.3 seconds RetCode: 0 Status: OK