Package: Rbec Version: 1.14.0 Command: rm -rf Rbec.buildbin-libdir && mkdir Rbec.buildbin-libdir && F:\biocbuild\bbs-3.20-bioc\R\bin\R.exe CMD INSTALL --build --library=Rbec.buildbin-libdir Rbec_1.14.0.tar.gz StartedAt: 2025-02-04 09:16:37 -0500 (Tue, 04 Feb 2025) EndedAt: 2025-02-04 09:17:24 -0500 (Tue, 04 Feb 2025) EllapsedTime: 47.2 seconds RetCode: 0 Status: OK PackageFile: Rbec_1.14.0.zip PackageFileSize: 1.836 MiB