Package: Rbec Version: 1.14.0 Command: F:\biocbuild\bbs-3.20-bioc\R\bin\R.exe CMD INSTALL Rbec StartedAt: 2025-02-03 17:08:28 -0500 (Mon, 03 Feb 2025) EndedAt: 2025-02-03 17:09:19 -0500 (Mon, 03 Feb 2025) EllapsedTime: 51.1 seconds RetCode: 0 Status: OK